BEGIN:VCALENDAR
VERSION:2.0
PRODID:-//Le Fabalab - ECPv5.1.6//NONSGML v1.0//EN
CALSCALE:GREGORIAN
METHOD:PUBLISH
X-WR-CALNAME:Le Fabalab
X-ORIGINAL-URL:https://www.lefabalab.com
X-WR-CALDESC:évènements pour Le Fabalab
BEGIN:VTIMEZONE
TZID:Europe/Paris
BEGIN:DAYLIGHT
TZOFFSETFROM:+0100
TZOFFSETTO:+0200
TZNAME:CEST
DTSTART:20200329T010000
END:DAYLIGHT
BEGIN:STANDARD
TZOFFSETFROM:+0200
TZOFFSETTO:+0100
TZNAME:CET
DTSTART:20201025T010000
END:STANDARD
END:VTIMEZONE
BEGIN:VEVENT
DTSTART;TZID=Europe/Paris:20201121T080000
DTEND;TZID=Europe/Paris:20201121T170000
DTSTAMP:20260420T105432
CREATED:20201005T205818Z
LAST-MODIFIED:20201005T205818Z
UID:1020-1605945600-1605978000@www.lefabalab.com
SUMMARY:Atelier Montessori 3-6 ans
DESCRIPTION:Au coeur d’un espace calme\, tu pourras utiliser le matériel présenté\, celui qui suscitera ton intérêt\, autant de fois que tu le voudras.\nTu pourras répéter\, encore et encore\, essayer\, encore et encore… La répétition qui te conduira tout naturellement vers la concentration\, ta construction intérieure.\nTu éprouveras de la joie\, de la satisfaction d’avoir répondu à ton besoin intérieure.\nAu fil des séances\, tes gestes deviendront précis. Tes mouvements seront coordonnés. Tu pourras partager tes découvertes avec tes camarades\, les aider\, ou reproduire à la maison.\nMoi\, pendant ce temps\, je t’apporterais de l’aide\, seulement si tu me le demandes. Ainsi\, tu développeras une grande confiance\, qui restera en toi toute ta vie. 💪🏃‍♀️🏃‍♂️ \nTarif : 18 €/heure.\nInscription par téléphone au 06.62.95.25.04. \nPrévenir au plus tard le 21/11 en cas de désistement.\nN’oubliez pas vos chaussons.😀🤗
URL:https://www.lefabalab.com/event/atelier-montessori-3-6-ans-2/
LOCATION:Le Fabalab\, Mach5\, avenue des hauts de grigneux\, Bihorel\, 76420\, France
CATEGORIES:Enfant
ORGANIZER;CN="Montessori%20Eure":MAILTO:ecolemontessori27@gmail.com
END:VEVENT
END:VCALENDAR